BEGIN:VCALENDAR
VERSION:2.0
PRODID:-//JACA - ECPv6.15.15//NONSGML v1.0//EN
CALSCALE:GREGORIAN
METHOD:PUBLISH
X-WR-CALNAME:JACA
X-ORIGINAL-URL:https://www.juventudeativista.com.br
X-WR-CALDESC:Eventos para JACA
REFRESH-INTERVAL;VALUE=DURATION:PT1H
X-Robots-Tag:noindex
X-PUBLISHED-TTL:PT1H
BEGIN:VTIMEZONE
TZID:America/Sao_Paulo
BEGIN:STANDARD
TZOFFSETFROM:-0200
TZOFFSETTO:-0300
TZNAME:-03
DTSTART:20180218T020000
END:STANDARD
BEGIN:DAYLIGHT
TZOFFSETFROM:-0300
TZOFFSETTO:-0200
TZNAME:-02
DTSTART:20181104T030000
END:DAYLIGHT
BEGIN:STANDARD
TZOFFSETFROM:-0200
TZOFFSETTO:-0300
TZNAME:-03
DTSTART:20190217T020000
END:STANDARD
END:VTIMEZONE
BEGIN:VEVENT
DTSTART;TZID=America/Sao_Paulo:20200314T180000
DTEND;TZID=America/Sao_Paulo:20200314T220000
DTSTAMP:20260423T172622
CREATED:20200304T092335Z
LAST-MODIFIED:20200304T095158Z
UID:723-1584208800-1584223200@www.juventudeativista.com.br
SUMMARY:SARAU JACA DE POESIA - Lançamento da Antologia Poética "A Poesia é o Alimento para quem tem Fome de Conhecimento"
DESCRIPTION:O Sarau JACA de Poesia é mais uma iniciativa do grupo JACA – Juventude Ativista de Cajazeiras\, que teve início no ano de 2004; formado\, inicialmente\, por moradores de Cajazeiras\, Águas Claras e adjacências; o objetivo do coletivo era a mobilização de jovens do bairro em torno de dificuldades enfrentados no cotidiano\, através da abordagem de assuntos como política\, arte\, tecnologia e geração de renda. Atualmente\, o JACA está se organizando como uma Cooperativa de Metarreciclagem e já possui\, em sua formação\, moradores de outros bairros que demonstraram interesse pela atuação do grupo e passaram a integrá-lo. \nDurante o Sarau Ocorrerá o Lançamento da Antologia Poética “A Poesia é o Alimento para quem tem Fome de Conhecimento” que é o primeiro livro do Escritor\, Poeta e Ator Rilton Junior também conhecido como @poetacompdepreto . A capa e o Prefácio 1 foram criados por Marcos Paulo @marcos_paulo_artes e o Prefácio 2 escrito por Luz Marques @luz_marques_oficial \, a orelha leva o nome de Nelson Maca @nelson_maca \, a correção das poesias ficou por conta de Fernando Gonzaga e Rose Oliveira @roseolliv \, a organização de Valdeck Almeida de Jesus @poeta.baiano e recebe o selo da Editora Galinha Pulando.\nDurante o coquetel de lançamento\, o autor vai falar sobre as parcerias ao longo do caminho\, seu processo de escrita\, a experiência da organização e publicação do livro\, bem como a a experiência do livro impresso e lançado. \nO Livro estará a venda no valor de 30$\nE teremos mesa de autógrafo. \nServiço: \nO quê:\nLançamento do livro A poesia é alimento para quem tem fome de conhecimento\, de Rilton Junior
URL:https://www.juventudeativista.com.br/evento/sarau-do-jaca/
LOCATION:Bahia
CATEGORIES:Sarau
ORGANIZER;CN="JACA":MAILTO:contato@juventudeativista.com.br
END:VEVENT
BEGIN:VEVENT
DTSTART;TZID=America/Sao_Paulo:20200304T090000
DTEND;TZID=America/Sao_Paulo:20200304T120000
DTSTAMP:20260423T172622
CREATED:20200304T092121Z
LAST-MODIFIED:20200304T092121Z
UID:720-1583312400-1583323200@www.juventudeativista.com.br
SUMMARY:Oficina de HipHop
DESCRIPTION:A oficina de HIP HOP tem como principal objetivo a inclusão social de crianças e adolescentes na faixa etária de 06 a 15 anos. O Projeto pretende oferecer à comunidade um espaço protegido e adequado onde crianças e adolescentes em situação de vulnerabilidade e risco pessoal e social desenvolverão atividades recreativas\, educativas e sociais. \nEste projeto social foi elaborado ressaltando a importância que tem a construção de um projeto de vida para os mais jovens. Esta ideia certamente se volta ao indivíduo\, mas sua realização depende de um conjunto de fatores\, que influenciarão suas escolhas e irão compor o destino social destas crianças e adolescentes. Neste sentido\, o acesso a este projeto e a mobilidade destas atividades constitui elementos essenciais para o exercício da cidadania. Neste sentido o projeto tem como proposta aliar ao estudo da dança a preocupação com aspectos educativos e sociais: disciplina\, estímulo ao trabalho em equipe\, solidariedade\, formação de valores e atitudes éticos –\, estímulo ao conhecimento e integração de diferentes linguagens artísticas (dança teatro\, música\, etc.).
URL:https://www.juventudeativista.com.br/evento/oficina-de-hiphop/
LOCATION:Bahia
CATEGORIES:Oficina
END:VEVENT
BEGIN:VEVENT
DTSTART;TZID=America/Sao_Paulo:20200216T090000
DTEND;TZID=America/Sao_Paulo:20200216T120000
DTSTAMP:20260423T172622
CREATED:20200304T100455Z
LAST-MODIFIED:20200304T100455Z
UID:747-1581843600-1581854400@www.juventudeativista.com.br
SUMMARY:Oficina- Economia Cultural
DESCRIPTION:A oficina abordará arte e cultura como estratégia de desenvolvimento local. Serão tratados conceitos como indústria cultural\, indústria criativa\, classe criativa\, cidade criativa\, ativos culturais\, arte e mercado\, estimulando a reflexão sobre sua relação com políticas no âmbito da administração pública e privada e foco no desenvolvimento econômico sustentável das cidades com base em uma economia da cultura e das artes.
URL:https://www.juventudeativista.com.br/evento/oficina-economia-cultural/
LOCATION:Sede Espaço Cultural Coletivo JACA\, Cajazeiras V – Rua Deputado Herculano Menezes s/n – Indústria do Bairro\, Salvador\, Bahia\, 41335-400\, Brazil
CATEGORIES:Oficina
END:VEVENT
BEGIN:VEVENT
DTSTART;TZID=America/Sao_Paulo:20200208T170000
DTEND;TZID=America/Sao_Paulo:20200208T220000
DTSTAMP:20260423T172622
CREATED:20200211T193119Z
LAST-MODIFIED:20200211T193119Z
UID:710-1581181200-1581199200@www.juventudeativista.com.br
SUMMARY:Sarau JACA - Segregação Urbana
DESCRIPTION:É com enorme satisfação que vamos realizar no dia 08 de fevereiro a partir das 18 hrs o nosso primeiro sarau jaca de poesia do ano\, com o tema “segregação urbana”. Durante o sarau também será realizado inscrições para o curso popular de pré vestibular quilombo do orobu ano 2020\, além de um debate sobre segregação urbana com o educador Célio Santos.\nPopopoesiaa preta!!  \n#jacanoinsta\n#saraudojaca\n#poesiapreta
URL:https://www.juventudeativista.com.br/evento/sarau-jaca-segregacao-urbana/
LOCATION:Sede Espaço Cultural Coletivo JACA\, Cajazeiras V – Rua Deputado Herculano Menezes s/n – Indústria do Bairro\, Salvador\, Bahia\, 41335-400\, Brazil
CATEGORIES:Debate,Sarau,Show
ATTACH;FMTTYPE=image/jpeg:https://www.juventudeativista.com.br/wp-content/uploads/2020/02/jaca-card-fev08c.jpg
ORGANIZER;CN="JACA":MAILTO:contato@juventudeativista.com.br
END:VEVENT
BEGIN:VEVENT
DTSTART;TZID=America/Sao_Paulo:20200203T180000
DTEND;TZID=America/Sao_Paulo:20200203T210000
DTSTAMP:20260423T172622
CREATED:20200304T100808Z
LAST-MODIFIED:20200304T100808Z
UID:750-1580752800-1580763600@www.juventudeativista.com.br
SUMMARY:OFICINA - ELABORAÇÃO DE PROJETOS CULTURAIS
DESCRIPTION:O Jaca\, recebe diretamente da Cidade do México\, Juci Reis\, co-fundadora do Programa Flotar e Harmonipan para uma Ação Criativa para a Construção de Projetos nas áreas de Economia Criativa. \nO tema da ação é Economia Criativa e durante o encontro as participantes vão trabalhar referências e conhecer formas de empreender ou criar um negócio local\, em diversos níveis.\nAtravés da economia criativa é possível potencializar as habilidades profissionais de cada um transformado em negócios rentáveis. \nJuci tem mais de 10 anos de experiência em Gestão Cultural e vai aplicar um módulo com conteúdo direcionado às mulheres. \nAs inscrições são gratuitas e as vagas limitadas. \nData: 03/02\nHorário: 18h às 20h\nLocal: Rua deputado Herculano Menezes\, Cajazeiras V\, sede do Jaca. \nAs inscrições podem ser feitas através do e-mail: costacairo79@gmail.com\nMais informações através do WhatsApp: 71 9135-3356 (Cairo Costa)
URL:https://www.juventudeativista.com.br/evento/oficina-elaboracao-de-projetos-culturais/
LOCATION:Sede Espaço Cultural Coletivo JACA\, Cajazeiras V – Rua Deputado Herculano Menezes s/n – Indústria do Bairro\, Salvador\, Bahia\, 41335-400\, Brazil
CATEGORIES:Oficina
END:VEVENT
BEGIN:VEVENT
DTSTART;TZID=America/Sao_Paulo:20191130T160000
DTEND;TZID=America/Sao_Paulo:20191130T180000
DTSTAMP:20260423T172622
CREATED:20191128T120613Z
LAST-MODIFIED:20191128T120613Z
UID:696-1575129600-1575136800@www.juventudeativista.com.br
SUMMARY:Experimentação Nyahbinghi nº01
DESCRIPTION:Projeto independente de pesquisa e experimentação sonora colaborativa a partir do nyahbinghi. \nFicha Técnica:\n\nIdealização: Vagné\nProdução: Muziek Mutantti\nMúsicos: Alisson Reis\, Bárbara Leoa\, Vagné\n\nwww.muziekmutantti.com.br
URL:https://www.juventudeativista.com.br/evento/experimentacao-nyahbinghi-no01/
LOCATION:Sede Espaço Cultural Coletivo JACA\, Cajazeiras V – Rua Deputado Herculano Menezes s/n – Indústria do Bairro\, Salvador\, Bahia\, 41335-400\, Brazil
CATEGORIES:Reunião
ATTACH;FMTTYPE=image/jpeg:https://www.juventudeativista.com.br/wp-content/uploads/2019/11/experimentacao-nyahbingui-n1.jpg
ORGANIZER;CN="Muziek Mutantti":MAILTO:contato@muziekmutantti.com.br
END:VEVENT
BEGIN:VEVENT
DTSTART;TZID=America/Sao_Paulo:20191130T113000
DTEND;TZID=America/Sao_Paulo:20191130T140000
DTSTAMP:20260423T172622
CREATED:20191128T142055Z
LAST-MODIFIED:20191128T142328Z
UID:704-1575113400-1575122400@www.juventudeativista.com.br
SUMMARY:Santo Amaro Afro - Sarau JACA
DESCRIPTION:A comissão organizadora do IV Santo Amaro Afro: Modelagens\, Saberes e Resistências\, evento de extensão da Universidade Federal do Recôncavo da Bahia (UFRB)\, vinculado ao Centro de Cultura\, Linguagens e Tecnologias Aplicadas (CECULT)\, com o apoio da Pró-Reitoria de Políticas Afirmativas e Assuntos Estudantis (PROPAAE) e da Pró-Reitoria de Extensão (PROEXT)\, em parceria com o Instituto Federal da Bahia (IFBA)\, campus Santo Amaro\, e a Universidade da Integração Internacional da Lusofonia Afro-Brasileira (UNILAB)\, campus dos Malês\, convida a comunidade acadêmica e local para as atividades que serão realizadas e abre inscrições para monitoria\, proposição de oficinas e minicursos e submissão de trabalhos. O evento será realizado na cidade de Santo Amaro/BA\, nos dias 26 \, 27 e 30 de novembro. \n  \n 
URL:https://www.juventudeativista.com.br/evento/santo-amaro-afro-sarau-jaca/
LOCATION:IFBA Santo Amaro\, IFBA\, Santo Amaro\, bahia\, Brasil
CATEGORIES:Sarau
ATTACH;FMTTYPE=image/png:https://www.juventudeativista.com.br/wp-content/uploads/2019/11/santaamaroafro.png
END:VEVENT
BEGIN:VEVENT
DTSTART;TZID=America/Sao_Paulo:20191130T090000
DTEND;TZID=America/Sao_Paulo:20191130T120000
DTSTAMP:20260423T172622
CREATED:20191128T141531Z
LAST-MODIFIED:20191128T141649Z
UID:700-1575104400-1575115200@www.juventudeativista.com.br
SUMMARY:Santo Amaro Afro - Oficina - Reaproveitamento de resíduos tecnológicos
DESCRIPTION:A comissão organizadora do IV Santo Amaro Afro: Modelagens\, Saberes e Resistências\, evento de extensão da Universidade Federal do Recôncavo da Bahia (UFRB)\, vinculado ao Centro de Cultura\, Linguagens e Tecnologias Aplicadas (CECULT)\, com o apoio da Pró-Reitoria de Políticas Afirmativas e Assuntos Estudantis (PROPAAE) e da Pró-Reitoria de Extensão (PROEXT)\, em parceria com o Instituto Federal da Bahia (IFBA)\, campus Santo Amaro\, e a Universidade da Integração Internacional da Lusofonia Afro-Brasileira (UNILAB)\, campus dos Malês\, convida a comunidade acadêmica e local para as atividades que serão realizadas e abre inscrições para monitoria\, proposição de oficinas e minicursos e submissão de trabalhos. O evento será realizado na cidade de Santo Amaro/BA\, nos dias 26 \, 27 e 30 de novembro. \nO coletivo JACA irá ministrar a oficina : \nReaproveitamento de resíduos tecnológicos: construção de lixadeira a partir de fonte e HD de computador.
URL:https://www.juventudeativista.com.br/evento/santo-amaro-afro-oficina-reaproveitamento-de-residuos-tecnologicos/
LOCATION:IFBA Santo Amaro\, IFBA\, Santo Amaro\, bahia\, Brasil
CATEGORIES:Oficina
ATTACH;FMTTYPE=image/png:https://www.juventudeativista.com.br/wp-content/uploads/2019/11/santaamaroafro.png
END:VEVENT
BEGIN:VEVENT
DTSTART;TZID=America/Sao_Paulo:20191123T180000
DTEND;TZID=America/Sao_Paulo:20191123T220000
DTSTAMP:20260423T172622
CREATED:20191120T175213Z
LAST-MODIFIED:20191120T175213Z
UID:681-1574532000-1574546400@www.juventudeativista.com.br
SUMMARY:Sarau JACA de Poesia
DESCRIPTION:O sarau JACA de poesia\, pode ser definido\, de modo breve\, como reuniões de artistas no bairro de Cajazeiras V\, onde os moradores declamam ou leem textos próprios ou de outros diante de um microfone\, músicos se apresentam e diversos outros artistas encontram um espaços durante a atividade para uma apresentação de suas obras. Durante o sarau\, também ocorrem diversas intervenções de vários membros do JACA\, seja de poesia\, mostra de curta metragem ou teatro\, os encontros geralmente problematizam a realidade da juventude local\, a luta contra a discriminação racial e violência praticada pelos agentes de segurança pública.
URL:https://www.juventudeativista.com.br/evento/sarau-jaca-de-poesia/
LOCATION:Bahia
CATEGORIES:Sarau
ATTACH;FMTTYPE=image/jpeg:https://www.juventudeativista.com.br/wp-content/uploads/2019/11/sarau-2311.jpeg
END:VEVENT
BEGIN:VEVENT
DTSTART;TZID=America/Sao_Paulo:20191119T140000
DTEND;TZID=America/Sao_Paulo:20191119T170000
DTSTAMP:20260423T172622
CREATED:20191120T182433Z
LAST-MODIFIED:20191120T182433Z
UID:689-1574172000-1574182800@www.juventudeativista.com.br
SUMMARY:Oficina de formação de comunicadores de webrádio comunitária
DESCRIPTION:Neste encontro inicial\, os participantes aprenderão o que é e como fazer um programa de webrádio comunitária\, pensando criação de conteúdos direcionados para sua comunidade. Serão abordados conceitos iniciais sobre rádio\, comunidade\, cidadania\, direitos e mudanças sociais. A atividade é direcionada a maiores de 13 anos que desejam discutir sobre a realidade das comunidades em que vivem.
URL:https://www.juventudeativista.com.br/evento/oficina-de-formacao-de-comunicadores-de-webradio-comunitaria/
LOCATION:Colégio Estadual Edvaldo Brandão\, Cajazeiras 4\, Salvador\, Bahia\, Brasil
CATEGORIES:Oficina
ATTACH;FMTTYPE=image/jpeg:https://www.juventudeativista.com.br/wp-content/uploads/2019/11/oficina-web-radio.jpg
END:VEVENT
BEGIN:VEVENT
DTSTART;TZID=America/Sao_Paulo:20191115T090000
DTEND;TZID=America/Sao_Paulo:20191115T110000
DTSTAMP:20260423T172622
CREATED:20191120T180644Z
LAST-MODIFIED:20191120T180644Z
UID:685-1573808400-1573815600@www.juventudeativista.com.br
SUMMARY:FLIN - FESTIVAL LITERÁRIO NACIONAL
DESCRIPTION:Dois grupos bem conhecidos de Cajazeiras participam no último dia do Flin. Com a proposta de despertar a juventude negra do bairro de Cajazeiras para questões étnicas e culturais\, além da luta por direitos sociais\, surgiu o Coletivo JACA\, que ajuda a qualificar a juventude com projetos como o Capoeira Angola\, Sarau Poético\, e Meta Reciclagem\, além de oficinas de teatro e Hip-Hop. O outro grupo é o Coletivo Zeferinas\, mulheres negras residentes do bairro de Cajazeiras utilizam a poesia e a música como ferramenta de manifestação política\, trazendo visibilidade às artistas negras\, bem como a respeito de questões sobre desvalorização intelectual\, racismo\, machismo\, e outras desigualdades sociais.
URL:https://www.juventudeativista.com.br/evento/flin-festival-literario-nacional/
LOCATION:Ginásio Cajazeiras\, Salvador\, Bahia\, Brasil
CATEGORIES:Sarau,Show
ATTACH;FMTTYPE=image/jpeg:https://www.juventudeativista.com.br/wp-content/uploads/2019/11/flin-jaca-zeferinas.jpg
END:VEVENT
BEGIN:VEVENT
DTSTART;TZID=America/Sao_Paulo:20191027T080000
DTEND;TZID=America/Sao_Paulo:20191027T110000
DTSTAMP:20260423T172622
CREATED:20191025T153036Z
LAST-MODIFIED:20191025T125047Z
UID:673-1572163200-1572174000@www.juventudeativista.com.br
SUMMARY:Reunião Administração JACA
DESCRIPTION:Reunião Administração JACA
URL:https://www.juventudeativista.com.br/evento/reuniao-administracao-jaca/
LOCATION:Sede Espaço Cultural Coletivo JACA\, Cajazeiras V – Rua Deputado Herculano Menezes s/n – Indústria do Bairro\, Salvador\, Bahia\, 41335-400\, Brazil
CATEGORIES:Reunião
END:VEVENT
END:VCALENDAR